Workbook

Sheet Setup
A1: 8 Team / 2 Pool Competition - Set Score Mode
A2: Enter the names of teams or individual into either pool A or Pool B in column B
A3: Competition setting | B3: Value | C3: Notes
A4: Competition name | B4: Set Score Competition | C4: Rename as needed
A6: Pool A Teams | C6: Edit the team names in column B
A7: 1 | B7: Team A1
A8: 2 | B8: Team A2
A9: 3 | B9: Team A3
A10: 4 | B10: Team A4
A12: Pool B Teams | C12: Edit the team names in column B
A13: 1 | B13: Team B1
A14: 2 | B14: Team B2
A15: 3 | B15: Team B3
A16: 4 | B16: Team B4
A18: Set-score rules
A19: Maximum sets shown | B19: 5 | C19: Use 3 for best-of-3 or 5 for best-of-5
A20: Sets needed to win | B20: 2 | C20: Use 2 for best-of-3, 3 for best-of-5
A21: Match win points | B21: 3 | C21: Common for tennis/badminton/table tennis pools
A22: Match loss points | B22: 0 | C22: Set to 1 if all completed matches earn a point
A24: Ranking order
A25: 1 | B25: Match Points
A26: 2 | B26: Matches Won
A27: 3 | B27: Set Difference
A28: 4 | B28: Point/Game Difference
A29: 5 | B29: Points/Games For
A30: 6 | B30: Original team order | C30: Only used if all other tie-breakers are equal

Sheet Notes
A1: How to use this set-score workbook
A3: Step | B3: Instruction
A4: 1 | B4: Enter team names on the Setup sheet.
A5: 2 | B5: Choose the set format on Setup. For best-of-3 use Sets needed to win = 2. For best-of-5 use 3.
A6: 3 | B6: Enter set scores on the Scores sheet in the yellow cells. Leave unused sets blank.
A7: 4 | B7: The Improved Tables sheet sorts teams automatically into finishing order.
A8: 5 | B8: Ranking order is Match Points, Matches Won, Set Difference, Point/Game Difference, Points/Games For, then original setup order.
A9: 6 | B9: For tennis, treat Pts/Games as games. For volleyball, badminton and table tennis, treat them as points.
A10: 7 | B10: If Excel is ever set to Manual Calculation, press F9 or change Formulas > Calculation Options > Automatic.

Sheet Scores
A1: Scores - enter set scores only in the yellow cells
A4: Pool | B4: Match | C4: Team 1 | D4: Team 2 | E4: Set 1 T1 | F4: Set 1 T2 | G4: Set 2 T1 | H4: Set 2 T2 | I4: Set 3 T1 | J4: Set 3 T2 | K4: Set 4 T1 | L4: Set 4 T2 | M4: Set 5 T1 | N4: Set 5 T2 | O4: Sets T1 | P4: Sets T2 | Q4: Pts T1 | R4: Pts T2 | S4: Winner | T4: Match Pts T1 | U4: Match Pts T2 | V4: Status
A5: A | B5: 1 | C5: =Setup!$B$7 -> Team A1 | D5: =Setup!$B$8 -> Team A2 | O5: =IF(OR(E5="",F5=""),0,IF(E5>F5,1,0))+IF(OR(G5="",H5=""),0,IF(G5>H5,1,0))+IF(OR(I5="",J5=""),0,IF(I5>J5,1,0))+IF(OR(K5="",L5=""),0,IF(K5>L5,1,0))+IF(OR(M5="",N5=""),0,IF(M5>N5,1,0)) -> 0 | P5: =IF(OR(E5="",F5=""),0,IF(F5>E5,1,0))+IF(OR(G5="",H5=""),0,IF(H5>G5,1,0))+IF(OR(I5="",J5=""),0,IF(J5>I5,1,0))+IF(OR(K5="",L5=""),0,IF(L5>K5,1,0))+IF(OR(M5="",N5=""),0,IF(N5>M5,1,0)) -> 0 | Q5: =IF(E5="",0,E5)+IF(G5="",0,G5)+IF(I5="",0,I5)+IF(K5="",0,K5)+IF(M5="",0,M5) -> 0 | R5: =IF(F5="",0,F5)+IF(H5="",0,H5)+IF(J5="",0,J5)+IF(L5="",0,L5)+IF(N5="",0,N5) -> 0 | S5: =IF(OR(O5>=Setup!$B$20,P5>=Setup!$B$20),IF(O5>P5,C5,D5),"") | T5: =IF($S5="","",IF($S5=$C5,Setup!$B$21,Setup!$B$22)) | U5: =IF($S5="","",IF($S5=$D5,Setup!$B$21,Setup!$B$22)) | V5: =IF($S5="","Incomplete","Complete") -> Incomplete
A6: A | B6: 2 | C6: =Setup!$B$9 -> Team A3 | D6: =Setup!$B$10 -> Team A4 | O6: =IF(OR(E6="",F6=""),0,IF(E6>F6,1,0))+IF(OR(G6="",H6=""),0,IF(G6>H6,1,0))+IF(OR(I6="",J6=""),0,IF(I6>J6,1,0))+IF(OR(K6="",L6=""),0,IF(K6>L6,1,0))+IF(OR(M6="",N6=""),0,IF(M6>N6,1,0)) -> 0 | P6: =IF(OR(E6="",F6=""),0,IF(F6>E6,1,0))+IF(OR(G6="",H6=""),0,IF(H6>G6,1,0))+IF(OR(I6="",J6=""),0,IF(J6>I6,1,0))+IF(OR(K6="",L6=""),0,IF(L6>K6,1,0))+IF(OR(M6="",N6=""),0,IF(N6>M6,1,0)) -> 0 | Q6: =IF(E6="",0,E6)+IF(G6="",0,G6)+IF(I6="",0,I6)+IF(K6="",0,K6)+IF(M6="",0,M6) -> 0 | R6: =IF(F6="",0,F6)+IF(H6="",0,H6)+IF(J6="",0,J6)+IF(L6="",0,L6)+IF(N6="",0,N6) -> 0 | S6: =IF(OR(O6>=Setup!$B$20,P6>=Setup!$B$20),IF(O6>P6,C6,D6),"") | T6: =IF($S6="","",IF($S6=$C6,Setup!$B$21,Setup!$B$22)) | U6: =IF($S6="","",IF($S6=$D6,Setup!$B$21,Setup!$B$22)) | V6: =IF($S6="","Incomplete","Complete") -> Incomplete
A7: A | B7: 3 | C7: =Setup!$B$7 -> Team A1 | D7: =Setup!$B$9 -> Team A3 | O7: =IF(OR(E7="",F7=""),0,IF(E7>F7,1,0))+IF(OR(G7="",H7=""),0,IF(G7>H7,1,0))+IF(OR(I7="",J7=""),0,IF(I7>J7,1,0))+IF(OR(K7="",L7=""),0,IF(K7>L7,1,0))+IF(OR(M7="",N7=""),0,IF(M7>N7,1,0)) -> 0 | P7: =IF(OR(E7="",F7=""),0,IF(F7>E7,1,0))+IF(OR(G7="",H7=""),0,IF(H7>G7,1,0))+IF(OR(I7="",J7=""),0,IF(J7>I7,1,0))+IF(OR(K7="",L7=""),0,IF(L7>K7,1,0))+IF(OR(M7="",N7=""),0,IF(N7>M7,1,0)) -> 0 | Q7: =IF(E7="",0,E7)+IF(G7="",0,G7)+IF(I7="",0,I7)+IF(K7="",0,K7)+IF(M7="",0,M7) -> 0 | R7: =IF(F7="",0,F7)+IF(H7="",0,H7)+IF(J7="",0,J7)+IF(L7="",0,L7)+IF(N7="",0,N7) -> 0 | S7: =IF(OR(O7>=Setup!$B$20,P7>=Setup!$B$20),IF(O7>P7,C7,D7),"") | T7: =IF($S7="","",IF($S7=$C7,Setup!$B$21,Setup!$B$22)) | U7: =IF($S7="","",IF($S7=$D7,Setup!$B$21,Setup!$B$22)) | V7: =IF($S7="","Incomplete","Complete") -> Incomplete
A8: A | B8: 4 | C8: =Setup!$B$8 -> Team A2 | D8: =Setup!$B$10 -> Team A4 | O8: =IF(OR(E8="",F8=""),0,IF(E8>F8,1,0))+IF(OR(G8="",H8=""),0,IF(G8>H8,1,0))+IF(OR(I8="",J8=""),0,IF(I8>J8,1,0))+IF(OR(K8="",L8=""),0,IF(K8>L8,1,0))+IF(OR(M8="",N8=""),0,IF(M8>N8,1,0)) -> 0 | P8: =IF(OR(E8="",F8=""),0,IF(F8>E8,1,0))+IF(OR(G8="",H8=""),0,IF(H8>G8,1,0))+IF(OR(I8="",J8=""),0,IF(J8>I8,1,0))+IF(OR(K8="",L8=""),0,IF(L8>K8,1,0))+IF(OR(M8="",N8=""),0,IF(N8>M8,1,0)) -> 0 | Q8: =IF(E8="",0,E8)+IF(G8="",0,G8)+IF(I8="",0,I8)+IF(K8="",0,K8)+IF(M8="",0,M8) -> 0 | R8: =IF(F8="",0,F8)+IF(H8="",0,H8)+IF(J8="",0,J8)+IF(L8="",0,L8)+IF(N8="",0,N8) -> 0 | S8: =IF(OR(O8>=Setup!$B$20,P8>=Setup!$B$20),IF(O8>P8,C8,D8),"") | T8: =IF($S8="","",IF($S8=$C8,Setup!$B$21,Setup!$B$22)) | U8: =IF($S8="","",IF($S8=$D8,Setup!$B$21,Setup!$B$22)) | V8: =IF($S8="","Incomplete","Complete") -> Incomplete
A9: A | B9: 5 | C9: =Setup!$B$7 -> Team A1 | D9: =Setup!$B$10 -> Team A4 | O9: =IF(OR(E9="",F9=""),0,IF(E9>F9,1,0))+IF(OR(G9="",H9=""),0,IF(G9>H9,1,0))+IF(OR(I9="",J9=""),0,IF(I9>J9,1,0))+IF(OR(K9="",L9=""),0,IF(K9>L9,1,0))+IF(OR(M9="",N9=""),0,IF(M9>N9,1,0)) -> 0 | P9: =IF(OR(E9="",F9=""),0,IF(F9>E9,1,0))+IF(OR(G9="",H9=""),0,IF(H9>G9,1,0))+IF(OR(I9="",J9=""),0,IF(J9>I9,1,0))+IF(OR(K9="",L9=""),0,IF(L9>K9,1,0))+IF(OR(M9="",N9=""),0,IF(N9>M9,1,0)) -> 0 | Q9: =IF(E9="",0,E9)+IF(G9="",0,G9)+IF(I9="",0,I9)+IF(K9="",0,K9)+IF(M9="",0,M9) -> 0 | R9: =IF(F9="",0,F9)+IF(H9="",0,H9)+IF(J9="",0,J9)+IF(L9="",0,L9)+IF(N9="",0,N9) -> 0 | S9: =IF(OR(O9>=Setup!$B$20,P9>=Setup!$B$20),IF(O9>P9,C9,D9),"") | T9: =IF($S9="","",IF($S9=$C9,Setup!$B$21,Setup!$B$22)) | U9: =IF($S9="","",IF($S9=$D9,Setup!$B$21,Setup!$B$22)) | V9: =IF($S9="","Incomplete","Complete") -> Incomplete
A10: A | B10: 6 | C10: =Setup!$B$8 -> Team A2 | D10: =Setup!$B$9 -> Team A3 | O10: =IF(OR(E10="",F10=""),0,IF(E10>F10,1,0))+IF(OR(G10="",H10=""),0,IF(G10>H10,1,0))+IF(OR(I10="",J10=""),0,IF(I10>J10,1,0))+IF(OR(K10="",L10=""),0,IF(K10>L10,1,0))+IF(OR(M10="",N10=""),0,IF(M10>N10,1,0)) -> 0 | P10: =IF(OR(E10="",F10=""),0,IF(F10>E10,1,0))+IF(OR(G10="",H10=""),0,IF(H10>G10,1,0))+IF(OR(I10="",J10=""),0,IF(J10>I10,1,0))+IF(OR(K10="",L10=""),0,IF(L10>K10,1,0))+IF(OR(M10="",N10=""),0,IF(N10>M10,1,0)) -> 0 | Q10: =IF(E10="",0,E10)+IF(G10="",0,G10)+IF(I10="",0,I10)+IF(K10="",0,K10)+IF(M10="",0,M10) -> 0 | R10: =IF(F10="",0,F10)+IF(H10="",0,H10)+IF(J10="",0,J10)+IF(L10="",0,L10)+IF(N10="",0,N10) -> 0 | S10: =IF(OR(O10>=Setup!$B$20,P10>=Setup!$B$20),IF(O10>P10,C10,D10),"") | T10: =IF($S10="","",IF($S10=$C10,Setup!$B$21,Setup!$B$22)) | U10: =IF($S10="","",IF($S10=$D10,Setup!$B$21,Setup!$B$22)) | V10: =IF($S10="","Incomplete","Complete") -> Incomplete
A11: B | B11: 7 | C11: =Setup!$B$13 -> Team B1 | D11: =Setup!$B$14 -> Team B2 | O11: =IF(OR(E11="",F11=""),0,IF(E11>F11,1,0))+IF(OR(G11="",H11=""),0,IF(G11>H11,1,0))+IF(OR(I11="",J11=""),0,IF(I11>J11,1,0))+IF(OR(K11="",L11=""),0,IF(K11>L11,1,0))+IF(OR(M11="",N11=""),0,IF(M11>N11,1,0)) -> 0 | P11: =IF(OR(E11="",F11=""),0,IF(F11>E11,1,0))+IF(OR(G11="",H11=""),0,IF(H11>G11,1,0))+IF(OR(I11="",J11=""),0,IF(J11>I11,1,0))+IF(OR(K11="",L11=""),0,IF(L11>K11,1,0))+IF(OR(M11="",N11=""),0,IF(N11>M11,1,0)) -> 0 | Q11: =IF(E11="",0,E11)+IF(G11="",0,G11)+IF(I11="",0,I11)+IF(K11="",0,K11)+IF(M11="",0,M11) -> 0 | R11: =IF(F11="",0,F11)+IF(H11="",0,H11)+IF(J11="",0,J11)+IF(L11="",0,L11)+IF(N11="",0,N11) -> 0 | S11: =IF(OR(O11>=Setup!$B$20,P11>=Setup!$B$20),IF(O11>P11,C11,D11),"") | T11: =IF($S11="","",IF($S11=$C11,Setup!$B$21,Setup!$B$22)) | U11: =IF($S11="","",IF($S11=$D11,Setup!$B$21,Setup!$B$22)) | V11: =IF($S11="","Incomplete","Complete") -> Incomplete
A12: B | B12: 8 | C12: =Setup!$B$15 -> Team B3 | D12: =Setup!$B$16 -> Team B4 | O12: =IF(OR(E12="",F12=""),0,IF(E12>F12,1,0))+IF(OR(G12="",H12=""),0,IF(G12>H12,1,0))+IF(OR(I12="",J12=""),0,IF(I12>J12,1,0))+IF(OR(K12="",L12=""),0,IF(K12>L12,1,0))+IF(OR(M12="",N12=""),0,IF(M12>N12,1,0)) -> 0 | P12: =IF(OR(E12="",F12=""),0,IF(F12>E12,1,0))+IF(OR(G12="",H12=""),0,IF(H12>G12,1,0))+IF(OR(I12="",J12=""),0,IF(J12>I12,1,0))+IF(OR(K12="",L12=""),0,IF(L12>K12,1,0))+IF(OR(M12="",N12=""),0,IF(N12>M12,1,0)) -> 0 | Q12: =IF(E12="",0,E12)+IF(G12="",0,G12)+IF(I12="",0,I12)+IF(K12="",0,K12)+IF(M12="",0,M12) -> 0 | R12: =IF(F12="",0,F12)+IF(H12="",0,H12)+IF(J12="",0,J12)+IF(L12="",0,L12)+IF(N12="",0,N12) -> 0 | S12: =IF(OR(O12>=Setup!$B$20,P12>=Setup!$B$20),IF(O12>P12,C12,D12),"") | T12: =IF($S12="","",IF($S12=$C12,Setup!$B$21,Setup!$B$22)) | U12: =IF($S12="","",IF($S12=$D12,Setup!$B$21,Setup!$B$22)) | V12: =IF($S12="","Incomplete","Complete") -> Incomplete
A13: B | B13: 9 | C13: =Setup!$B$13 -> Team B1 | D13: =Setup!$B$15 -> Team B3 | O13: =IF(OR(E13="",F13=""),0,IF(E13>F13,1,0))+IF(OR(G13="",H13=""),0,IF(G13>H13,1,0))+IF(OR(I13="",J13=""),0,IF(I13>J13,1,0))+IF(OR(K13="",L13=""),0,IF(K13>L13,1,0))+IF(OR(M13="",N13=""),0,IF(M13>N13,1,0)) -> 0 | P13: =IF(OR(E13="",F13=""),0,IF(F13>E13,1,0))+IF(OR(G13="",H13=""),0,IF(H13>G13,1,0))+IF(OR(I13="",J13=""),0,IF(J13>I13,1,0))+IF(OR(K13="",L13=""),0,IF(L13>K13,1,0))+IF(OR(M13="",N13=""),0,IF(N13>M13,1,0)) -> 0 | Q13: =IF(E13="",0,E13)+IF(G13="",0,G13)+IF(I13="",0,I13)+IF(K13="",0,K13)+IF(M13="",0,M13) -> 0 | R13: =IF(F13="",0,F13)+IF(H13="",0,H13)+IF(J13="",0,J13)+IF(L13="",0,L13)+IF(N13="",0,N13) -> 0 | S13: =IF(OR(O13>=Setup!$B$20,P13>=Setup!$B$20),IF(O13>P13,C13,D13),"") | T13: =IF($S13="","",IF($S13=$C13,Setup!$B$21,Setup!$B$22)) | U13: =IF($S13="","",IF($S13=$D13,Setup!$B$21,Setup!$B$22)) | V13: =IF($S13="","Incomplete","Complete") -> Incomplete
A14: B | B14: 10 | C14: =Setup!$B$14 -> Team B2 | D14: =Setup!$B$16 -> Team B4 | O14: =IF(OR(E14="",F14=""),0,IF(E14>F14,1,0))+IF(OR(G14="",H14=""),0,IF(G14>H14,1,0))+IF(OR(I14="",J14=""),0,IF(I14>J14,1,0))+IF(OR(K14="",L14=""),0,IF(K14>L14,1,0))+IF(OR(M14="",N14=""),0,IF(M14>N14,1,0)) -> 0 | P14: =IF(OR(E14="",F14=""),0,IF(F14>E14,1,0))+IF(OR(G14="",H14=""),0,IF(H14>G14,1,0))+IF(OR(I14="",J14=""),0,IF(J14>I14,1,0))+IF(OR(K14="",L14=""),0,IF(L14>K14,1,0))+IF(OR(M14="",N14=""),0,IF(N14>M14,1,0)) -> 0 | Q14: =IF(E14="",0,E14)+IF(G14="",0,G14)+IF(I14="",0,I14)+IF(K14="",0,K14)+IF(M14="",0,M14) -> 0 | R14: =IF(F14="",0,F14)+IF(H14="",0,H14)+IF(J14="",0,J14)+IF(L14="",0,L14)+IF(N14="",0,N14) -> 0 | S14: =IF(OR(O14>=Setup!$B$20,P14>=Setup!$B$20),IF(O14>P14,C14,D14),"") | T14: =IF($S14="","",IF($S14=$C14,Setup!$B$21,Setup!$B$22)) | U14: =IF($S14="","",IF($S14=$D14,Setup!$B$21,Setup!$B$22)) | V14: =IF($S14="","Incomplete","Complete") -> Incomplete
A15: B | B15: 11 | C15: =Setup!$B$13 -> Team B1 | D15: =Setup!$B$16 -> Team B4 | O15: =IF(OR(E15="",F15=""),0,IF(E15>F15,1,0))+IF(OR(G15="",H15=""),0,IF(G15>H15,1,0))+IF(OR(I15="",J15=""),0,IF(I15>J15,1,0))+IF(OR(K15="",L15=""),0,IF(K15>L15,1,0))+IF(OR(M15="",N15=""),0,IF(M15>N15,1,0)) -> 0 | P15: =IF(OR(E15="",F15=""),0,IF(F15>E15,1,0))+IF(OR(G15="",H15=""),0,IF(H15>G15,1,0))+IF(OR(I15="",J15=""),0,IF(J15>I15,1,0))+IF(OR(K15="",L15=""),0,IF(L15>K15,1,0))+IF(OR(M15="",N15=""),0,IF(N15>M15,1,0)) -> 0 | Q15: =IF(E15="",0,E15)+IF(G15="",0,G15)+IF(I15="",0,I15)+IF(K15="",0,K15)+IF(M15="",0,M15) -> 0 | R15: =IF(F15="",0,F15)+IF(H15="",0,H15)+IF(J15="",0,J15)+IF(L15="",0,L15)+IF(N15="",0,N15) -> 0 | S15: =IF(OR(O15>=Setup!$B$20,P15>=Setup!$B$20),IF(O15>P15,C15,D15),"") | T15: =IF($S15="","",IF($S15=$C15,Setup!$B$21,Setup!$B$22)) | U15: =IF($S15="","",IF($S15=$D15,Setup!$B$21,Setup!$B$22)) | V15: =IF($S15="","Incomplete","Complete") -> Incomplete
A16: B | B16: 12 | C16: =Setup!$B$14 -> Team B2 | D16: =Setup!$B$15 -> Team B3 | O16: =IF(OR(E16="",F16=""),0,IF(E16>F16,1,0))+IF(OR(G16="",H16=""),0,IF(G16>H16,1,0))+IF(OR(I16="",J16=""),0,IF(I16>J16,1,0))+IF(OR(K16="",L16=""),0,IF(K16>L16,1,0))+IF(OR(M16="",N16=""),0,IF(M16>N16,1,0)) -> 0 | P16: =IF(OR(E16="",F16=""),0,IF(F16>E16,1,0))+IF(OR(G16="",H16=""),0,IF(H16>G16,1,0))+IF(OR(I16="",J16=""),0,IF(J16>I16,1,0))+IF(OR(K16="",L16=""),0,IF(L16>K16,1,0))+IF(OR(M16="",N16=""),0,IF(N16>M16,1,0)) -> 0 | Q16: =IF(E16="",0,E16)+IF(G16="",0,G16)+IF(I16="",0,I16)+IF(K16="",0,K16)+IF(M16="",0,M16) -> 0 | R16: =IF(F16="",0,F16)+IF(H16="",0,H16)+IF(J16="",0,J16)+IF(L16="",0,L16)+IF(N16="",0,N16) -> 0 | S16: =IF(OR(O16>=Setup!$B$20,P16>=Setup!$B$20),IF(O16>P16,C16,D16),"") | T16: =IF($S16="","",IF($S16=$C16,Setup!$B$21,Setup!$B$22)) | U16: =IF($S16="","",IF($S16=$D16,Setup!$B$21,Setup!$B$22)) | V16: =IF($S16="","Incomplete","Complete") -> Incomplete
A19: Instruction: Enter each set as two numbers. Leave unused sets blank. The match is counted only when one side reaches the 'Sets needed to win' value on Setup. Use Set 4 and Set 5 only when the match format requires them.

Sheet Calculations
A1: Calculations - helper sheet used by Improved Tables
A4: Pool | B4: Team | C4: Order | D4: P | E4: W | F4: L | G4: Sets For | H4: Sets Against | I4: Set Diff | J4: Pts/Games For | K4: Pts/Games Against | L4: Point/Game Diff | M4: Match Pts | N4: Rank Key
A5: A | B5: =Setup!$B$7 -> Team A1 | C5: 1 | D5: =COUNTIFS(Scores!$C$5:$C$16,$B5,Scores!$V$5:$V$16,"Complete")+COUNTIFS(Scores!$D$5:$D$16,$B5,Scores!$V$5:$V$16,"Complete") -> 0 | E5: =COUNTIF(Scores!$S$5:$S$16,$B5) -> 0 | F5: =D5-E5 -> 0 | G5: =SUMIFS(Scores!$O$5:$O$16,Scores!$C$5:$C$16,$B5,Scores!$V$5:$V$16,"Complete")+SUMIFS(Scores!$P$5:$P$16,Scores!$D$5:$D$16,$B5,Scores!$V$5:$V$16,"Complete") -> 0 | H5: =SUMIFS(Scores!$P$5:$P$16,Scores!$C$5:$C$16,$B5,Scores!$V$5:$V$16,"Complete")+SUMIFS(Scores!$O$5:$O$16,Scores!$D$5:$D$16,$B5,Scores!$V$5:$V$16,"Complete") -> 0 | I5: =G5-H5 -> 0 | J5: =SUMIFS(Scores!$Q$5:$Q$16,Scores!$C$5:$C$16,$B5,Scores!$V$5:$V$16,"Complete")+SUMIFS(Scores!$R$5:$R$16,Scores!$D$5:$D$16,$B5,Scores!$V$5:$V$16,"Complete") -> 0 | K5: =SUMIFS(Scores!$R$5:$R$16,Scores!$C$5:$C$16,$B5,Scores!$V$5:$V$16,"Complete")+SUMIFS(Scores!$Q$5:$Q$16,Scores!$D$5:$D$16,$B5,Scores!$V$5:$V$16,"Complete") -> 0 | L5: =J5-K5 -> 0 | M5: =SUMIFS(Scores!$T$5:$T$16,Scores!$C$5:$C$16,$B5)+SUMIFS(Scores!$U$5:$U$16,Scores!$D$5:$D$16,$B5) -> 0 | N5: =M5*100000000000+E5*1000000000+(I5+500)*1000000+(L5+5000)*100+J5+(100-C5)/1000 -> 5.005e+08
A6: A | B6: =Setup!$B$8 -> Team A2 | C6: 2 | D6: =COUNTIFS(Scores!$C$5:$C$16,$B6,Scores!$V$5:$V$16,"Complete")+COUNTIFS(Scores!$D$5:$D$16,$B6,Scores!$V$5:$V$16,"Complete") -> 0 | E6: =COUNTIF(Scores!$S$5:$S$16,$B6) -> 0 | F6: =D6-E6 -> 0 | G6: =SUMIFS(Scores!$O$5:$O$16,Scores!$C$5:$C$16,$B6,Scores!$V$5:$V$16,"Complete")+SUMIFS(Scores!$P$5:$P$16,Scores!$D$5:$D$16,$B6,Scores!$V$5:$V$16,"Complete") -> 0 | H6: =SUMIFS(Scores!$P$5:$P$16,Scores!$C$5:$C$16,$B6,Scores!$V$5:$V$16,"Complete")+SUMIFS(Scores!$O$5:$O$16,Scores!$D$5:$D$16,$B6,Scores!$V$5:$V$16,"Complete") -> 0 | I6: =G6-H6 -> 0 | J6: =SUMIFS(Scores!$Q$5:$Q$16,Scores!$C$5:$C$16,$B6,Scores!$V$5:$V$16,"Complete")+SUMIFS(Scores!$R$5:$R$16,Scores!$D$5:$D$16,$B6,Scores!$V$5:$V$16,"Complete") -> 0 | K6: =SUMIFS(Scores!$R$5:$R$16,Scores!$C$5:$C$16,$B6,Scores!$V$5:$V$16,"Complete")+SUMIFS(Scores!$Q$5:$Q$16,Scores!$D$5:$D$16,$B6,Scores!$V$5:$V$16,"Complete") -> 0 | L6: =J6-K6 -> 0 | M6: =SUMIFS(Scores!$T$5:$T$16,Scores!$C$5:$C$16,$B6)+SUMIFS(Scores!$U$5:$U$16,Scores!$D$5:$D$16,$B6) -> 0 | N6: =M6*100000000000+E6*1000000000+(I6+500)*1000000+(L6+5000)*100+J6+(100-C6)/1000 -> 5.005e+08
A7: A | B7: =Setup!$B$9 -> Team A3 | C7: 3 | D7: =COUNTIFS(Scores!$C$5:$C$16,$B7,Scores!$V$5:$V$16,"Complete")+COUNTIFS(Scores!$D$5:$D$16,$B7,Scores!$V$5:$V$16,"Complete") -> 0 | E7: =COUNTIF(Scores!$S$5:$S$16,$B7) -> 0 | F7: =D7-E7 -> 0 | G7: =SUMIFS(Scores!$O$5:$O$16,Scores!$C$5:$C$16,$B7,Scores!$V$5:$V$16,"Complete")+SUMIFS(Scores!$P$5:$P$16,Scores!$D$5:$D$16,$B7,Scores!$V$5:$V$16,"Complete") -> 0 | H7: =SUMIFS(Scores!$P$5:$P$16,Scores!$C$5:$C$16,$B7,Scores!$V$5:$V$16,"Complete")+SUMIFS(Scores!$O$5:$O$16,Scores!$D$5:$D$16,$B7,Scores!$V$5:$V$16,"Complete") -> 0 | I7: =G7-H7 -> 0 | J7: =SUMIFS(Scores!$Q$5:$Q$16,Scores!$C$5:$C$16,$B7,Scores!$V$5:$V$16,"Complete")+SUMIFS(Scores!$R$5:$R$16,Scores!$D$5:$D$16,$B7,Scores!$V$5:$V$16,"Complete") -> 0 | K7: =SUMIFS(Scores!$R$5:$R$16,Scores!$C$5:$C$16,$B7,Scores!$V$5:$V$16,"Complete")+SUMIFS(Scores!$Q$5:$Q$16,Scores!$D$5:$D$16,$B7,Scores!$V$5:$V$16,"Complete") -> 0 | L7: =J7-K7 -> 0 | M7: =SUMIFS(Scores!$T$5:$T$16,Scores!$C$5:$C$16,$B7)+SUMIFS(Scores!$U$5:$U$16,Scores!$D$5:$D$16,$B7) -> 0 | N7: =M7*100000000000+E7*1000000000+(I7+500)*1000000+(L7+5000)*100+J7+(100-C7)/1000 -> 5.005e+08
A8: A | B8: =Setup!$B$10 -> Team A4 | C8: 4 | D8: =COUNTIFS(Scores!$C$5:$C$16,$B8,Scores!$V$5:$V$16,"Complete")+COUNTIFS(Scores!$D$5:$D$16,$B8,Scores!$V$5:$V$16,"Complete") -> 0 | E8: =COUNTIF(Scores!$S$5:$S$16,$B8) -> 0 | F8: =D8-E8 -> 0 | G8: =SUMIFS(Scores!$O$5:$O$16,Scores!$C$5:$C$16,$B8,Scores!$V$5:$V$16,"Complete")+SUMIFS(Scores!$P$5:$P$16,Scores!$D$5:$D$16,$B8,Scores!$V$5:$V$16,"Complete") -> 0 | H8: =SUMIFS(Scores!$P$5:$P$16,Scores!$C$5:$C$16,$B8,Scores!$V$5:$V$16,"Complete")+SUMIFS(Scores!$O$5:$O$16,Scores!$D$5:$D$16,$B8,Scores!$V$5:$V$16,"Complete") -> 0 | I8: =G8-H8 -> 0 | J8: =SUMIFS(Scores!$Q$5:$Q$16,Scores!$C$5:$C$16,$B8,Scores!$V$5:$V$16,"Complete")+SUMIFS(Scores!$R$5:$R$16,Scores!$D$5:$D$16,$B8,Scores!$V$5:$V$16,"Complete") -> 0 | K8: =SUMIFS(Scores!$R$5:$R$16,Scores!$C$5:$C$16,$B8,Scores!$V$5:$V$16,"Complete")+SUMIFS(Scores!$Q$5:$Q$16,Scores!$D$5:$D$16,$B8,Scores!$V$5:$V$16,"Complete") -> 0 | L8: =J8-K8 -> 0 | M8: =SUMIFS(Scores!$T$5:$T$16,Scores!$C$5:$C$16,$B8)+SUMIFS(Scores!$U$5:$U$16,Scores!$D$5:$D$16,$B8) -> 0 | N8: =M8*100000000000+E8*1000000000+(I8+500)*1000000+(L8+5000)*100+J8+(100-C8)/1000 -> 5.005e+08
A9: B | B9: =Setup!$B$13 -> Team B1 | C9: 1 | D9: =COUNTIFS(Scores!$C$5:$C$16,$B9,Scores!$V$5:$V$16,"Complete")+COUNTIFS(Scores!$D$5:$D$16,$B9,Scores!$V$5:$V$16,"Complete") -> 0 | E9: =COUNTIF(Scores!$S$5:$S$16,$B9) -> 0 | F9: =D9-E9 -> 0 | G9: =SUMIFS(Scores!$O$5:$O$16,Scores!$C$5:$C$16,$B9,Scores!$V$5:$V$16,"Complete")+SUMIFS(Scores!$P$5:$P$16,Scores!$D$5:$D$16,$B9,Scores!$V$5:$V$16,"Complete") -> 0 | H9: =SUMIFS(Scores!$P$5:$P$16,Scores!$C$5:$C$16,$B9,Scores!$V$5:$V$16,"Complete")+SUMIFS(Scores!$O$5:$O$16,Scores!$D$5:$D$16,$B9,Scores!$V$5:$V$16,"Complete") -> 0 | I9: =G9-H9 -> 0 | J9: =SUMIFS(Scores!$Q$5:$Q$16,Scores!$C$5:$C$16,$B9,Scores!$V$5:$V$16,"Complete")+SUMIFS(Scores!$R$5:$R$16,Scores!$D$5:$D$16,$B9,Scores!$V$5:$V$16,"Complete") -> 0 | K9: =SUMIFS(Scores!$R$5:$R$16,Scores!$C$5:$C$16,$B9,Scores!$V$5:$V$16,"Complete")+SUMIFS(Scores!$Q$5:$Q$16,Scores!$D$5:$D$16,$B9,Scores!$V$5:$V$16,"Complete") -> 0 | L9: =J9-K9 -> 0 | M9: =SUMIFS(Scores!$T$5:$T$16,Scores!$C$5:$C$16,$B9)+SUMIFS(Scores!$U$5:$U$16,Scores!$D$5:$D$16,$B9) -> 0 | N9: =M9*100000000000+E9*1000000000+(I9+500)*1000000+(L9+5000)*100+J9+(100-C9)/1000 -> 5.005e+08
A10: B | B10: =Setup!$B$14 -> Team B2 | C10: 2 | D10: =COUNTIFS(Scores!$C$5:$C$16,$B10,Scores!$V$5:$V$16,"Complete")+COUNTIFS(Scores!$D$5:$D$16,$B10,Scores!$V$5:$V$16,"Complete") -> 0 | E10: =COUNTIF(Scores!$S$5:$S$16,$B10) -> 0 | F10: =D10-E10 -> 0 | G10: =SUMIFS(Scores!$O$5:$O$16,Scores!$C$5:$C$16,$B10,Scores!$V$5:$V$16,"Complete")+SUMIFS(Scores!$P$5:$P$16,Scores!$D$5:$D$16,$B10,Scores!$V$5:$V$16,"Complete") -> 0 | H10: =SUMIFS(Scores!$P$5:$P$16,Scores!$C$5:$C$16,$B10,Scores!$V$5:$V$16,"Complete")+SUMIFS(Scores!$O$5:$O$16,Scores!$D$5:$D$16,$B10,Scores!$V$5:$V$16,"Complete") -> 0 | I10: =G10-H10 -> 0 | J10: =SUMIFS(Scores!$Q$5:$Q$16,Scores!$C$5:$C$16,$B10,Scores!$V$5:$V$16,"Complete")+SUMIFS(Scores!$R$5:$R$16,Scores!$D$5:$D$16,$B10,Scores!$V$5:$V$16,"Complete") -> 0 | K10: =SUMIFS(Scores!$R$5:$R$16,Scores!$C$5:$C$16,$B10,Scores!$V$5:$V$16,"Complete")+SUMIFS(Scores!$Q$5:$Q$16,Scores!$D$5:$D$16,$B10,Scores!$V$5:$V$16,"Complete") -> 0 | L10: =J10-K10 -> 0 | M10: =SUMIFS(Scores!$T$5:$T$16,Scores!$C$5:$C$16,$B10)+SUMIFS(Scores!$U$5:$U$16,Scores!$D$5:$D$16,$B10) -> 0 | N10: =M10*100000000000+E10*1000000000+(I10+500)*1000000+(L10+5000)*100+J10+(100-C10)/1000 -> 5.005e+08
A11: B | B11: =Setup!$B$15 -> Team B3 | C11: 3 | D11: =COUNTIFS(Scores!$C$5:$C$16,$B11,Scores!$V$5:$V$16,"Complete")+COUNTIFS(Scores!$D$5:$D$16,$B11,Scores!$V$5:$V$16,"Complete") -> 0 | E11: =COUNTIF(Scores!$S$5:$S$16,$B11) -> 0 | F11: =D11-E11 -> 0 | G11: =SUMIFS(Scores!$O$5:$O$16,Scores!$C$5:$C$16,$B11,Scores!$V$5:$V$16,"Complete")+SUMIFS(Scores!$P$5:$P$16,Scores!$D$5:$D$16,$B11,Scores!$V$5:$V$16,"Complete") -> 0 | H11: =SUMIFS(Scores!$P$5:$P$16,Scores!$C$5:$C$16,$B11,Scores!$V$5:$V$16,"Complete")+SUMIFS(Scores!$O$5:$O$16,Scores!$D$5:$D$16,$B11,Scores!$V$5:$V$16,"Complete") -> 0 | I11: =G11-H11 -> 0 | J11: =SUMIFS(Scores!$Q$5:$Q$16,Scores!$C$5:$C$16,$B11,Scores!$V$5:$V$16,"Complete")+SUMIFS(Scores!$R$5:$R$16,Scores!$D$5:$D$16,$B11,Scores!$V$5:$V$16,"Complete") -> 0 | K11: =SUMIFS(Scores!$R$5:$R$16,Scores!$C$5:$C$16,$B11,Scores!$V$5:$V$16,"Complete")+SUMIFS(Scores!$Q$5:$Q$16,Scores!$D$5:$D$16,$B11,Scores!$V$5:$V$16,"Complete") -> 0 | L11: =J11-K11 -> 0 | M11: =SUMIFS(Scores!$T$5:$T$16,Scores!$C$5:$C$16,$B11)+SUMIFS(Scores!$U$5:$U$16,Scores!$D$5:$D$16,$B11) -> 0 | N11: =M11*100000000000+E11*1000000000+(I11+500)*1000000+(L11+5000)*100+J11+(100-C11)/1000 -> 5.005e+08
A12: B | B12: =Setup!$B$16 -> Team B4 | C12: 4 | D12: =COUNTIFS(Scores!$C$5:$C$16,$B12,Scores!$V$5:$V$16,"Complete")+COUNTIFS(Scores!$D$5:$D$16,$B12,Scores!$V$5:$V$16,"Complete") -> 0 | E12: =COUNTIF(Scores!$S$5:$S$16,$B12) -> 0 | F12: =D12-E12 -> 0 | G12: =SUMIFS(Scores!$O$5:$O$16,Scores!$C$5:$C$16,$B12,Scores!$V$5:$V$16,"Complete")+SUMIFS(Scores!$P$5:$P$16,Scores!$D$5:$D$16,$B12,Scores!$V$5:$V$16,"Complete") -> 0 | H12: =SUMIFS(Scores!$P$5:$P$16,Scores!$C$5:$C$16,$B12,Scores!$V$5:$V$16,"Complete")+SUMIFS(Scores!$O$5:$O$16,Scores!$D$5:$D$16,$B12,Scores!$V$5:$V$16,"Complete") -> 0 | I12: =G12-H12 -> 0 | J12: =SUMIFS(Scores!$Q$5:$Q$16,Scores!$C$5:$C$16,$B12,Scores!$V$5:$V$16,"Complete")+SUMIFS(Scores!$R$5:$R$16,Scores!$D$5:$D$16,$B12,Scores!$V$5:$V$16,"Complete") -> 0 | K12: =SUMIFS(Scores!$R$5:$R$16,Scores!$C$5:$C$16,$B12,Scores!$V$5:$V$16,"Complete")+SUMIFS(Scores!$Q$5:$Q$16,Scores!$D$5:$D$16,$B12,Scores!$V$5:$V$16,"Complete") -> 0 | L12: =J12-K12 -> 0 | M12: =SUMIFS(Scores!$T$5:$T$16,Scores!$C$5:$C$16,$B12)+SUMIFS(Scores!$U$5:$U$16,Scores!$D$5:$D$16,$B12) -> 0 | N12: =M12*100000000000+E12*1000000000+(I12+500)*1000000+(L12+5000)*100+J12+(100-C12)/1000 -> 5.005e+08

Sheet Tables
A1: Improved Tables - Set Score Mode
A3: Pool A | N3: Finals Path
A4: Pos | B4: Team | C4: P | D4: W | E4: L | F4: Sets For | G4: Sets Against | H4: Set Diff | I4: Pts For | J4: Pts Against | K4: Points Diff | L4: Pts | N4: Stage | O4: Team 1 | P4: Sets | Q4: Team 2 | R4: Sets | S4: Winner
A5: 1 | B5: =INDEX(Calculations!$B$5:$B$8,MATCH(LARGE(Calculations!$N$5:$N$8,$A5),Calculations!$N$5:$N$8,0)) -> Team A1 | C5: =INDEX(Calculations!$D$5:$D$8,MATCH($B5,Calculations!$B$5:$B$8,0)) -> 0 | D5: =INDEX(Calculations!$E$5:$E$8,MATCH($B5,Calculations!$B$5:$B$8,0)) -> 0 | E5: =INDEX(Calculations!$F$5:$F$8,MATCH($B5,Calculations!$B$5:$B$8,0)) -> 0 | F5: =INDEX(Calculations!$G$5:$G$8,MATCH($B5,Calculations!$B$5:$B$8,0)) -> 0 | G5: =INDEX(Calculations!$H$5:$H$8,MATCH($B5,Calculations!$B$5:$B$8,0)) -> 0 | H5: =INDEX(Calculations!$I$5:$I$8,MATCH($B5,Calculations!$B$5:$B$8,0)) -> 0 | I5: =INDEX(Calculations!$J$5:$J$8,MATCH($B5,Calculations!$B$5:$B$8,0)) -> 0 | J5: =INDEX(Calculations!$K$5:$K$8,MATCH($B5,Calculations!$B$5:$B$8,0)) -> 0 | K5: =INDEX(Calculations!$L$5:$L$8,MATCH($B5,Calculations!$B$5:$B$8,0)) -> 0 | L5: =INDEX(Calculations!$M$5:$M$8,MATCH($B5,Calculations!$B$5:$B$8,0)) -> 0 | N5: Semi-final 1 | O5: =$B$5 -> Team A1 | P5: 3 | Q5: =$B$14 -> Team B2 | R5: 2 | S5: =IF(OR(P5="",R5=""),"",IF(P5>R5,O5,Q5)) -> Team A1
A6: 2 | B6: =INDEX(Calculations!$B$5:$B$8,MATCH(LARGE(Calculations!$N$5:$N$8,$A6),Calculations!$N$5:$N$8,0)) -> Team A2 | C6: =INDEX(Calculations!$D$5:$D$8,MATCH($B6,Calculations!$B$5:$B$8,0)) -> 0 | D6: =INDEX(Calculations!$E$5:$E$8,MATCH($B6,Calculations!$B$5:$B$8,0)) -> 0 | E6: =INDEX(Calculations!$F$5:$F$8,MATCH($B6,Calculations!$B$5:$B$8,0)) -> 0 | F6: =INDEX(Calculations!$G$5:$G$8,MATCH($B6,Calculations!$B$5:$B$8,0)) -> 0 | G6: =INDEX(Calculations!$H$5:$H$8,MATCH($B6,Calculations!$B$5:$B$8,0)) -> 0 | H6: =INDEX(Calculations!$I$5:$I$8,MATCH($B6,Calculations!$B$5:$B$8,0)) -> 0 | I6: =INDEX(Calculations!$J$5:$J$8,MATCH($B6,Calculations!$B$5:$B$8,0)) -> 0 | J6: =INDEX(Calculations!$K$5:$K$8,MATCH($B6,Calculations!$B$5:$B$8,0)) -> 0 | K6: =INDEX(Calculations!$L$5:$L$8,MATCH($B6,Calculations!$B$5:$B$8,0)) -> 0 | L6: =INDEX(Calculations!$M$5:$M$8,MATCH($B6,Calculations!$B$5:$B$8,0)) -> 0 | N6: Semi-final 2 | O6: =$B$13 -> Team B1 | P6: 3 | Q6: =$B$6 -> Team A2 | R6: 0 | S6: =IF(OR(P6="",R6=""),"",IF(P6>R6,O6,Q6)) -> Team B1
A7: 3 | B7: =INDEX(Calculations!$B$5:$B$8,MATCH(LARGE(Calculations!$N$5:$N$8,$A7),Calculations!$N$5:$N$8,0)) -> Team A3 | C7: =INDEX(Calculations!$D$5:$D$8,MATCH($B7,Calculations!$B$5:$B$8,0)) -> 0 | D7: =INDEX(Calculations!$E$5:$E$8,MATCH($B7,Calculations!$B$5:$B$8,0)) -> 0 | E7: =INDEX(Calculations!$F$5:$F$8,MATCH($B7,Calculations!$B$5:$B$8,0)) -> 0 | F7: =INDEX(Calculations!$G$5:$G$8,MATCH($B7,Calculations!$B$5:$B$8,0)) -> 0 | G7: =INDEX(Calculations!$H$5:$H$8,MATCH($B7,Calculations!$B$5:$B$8,0)) -> 0 | H7: =INDEX(Calculations!$I$5:$I$8,MATCH($B7,Calculations!$B$5:$B$8,0)) -> 0 | I7: =INDEX(Calculations!$J$5:$J$8,MATCH($B7,Calculations!$B$5:$B$8,0)) -> 0 | J7: =INDEX(Calculations!$K$5:$K$8,MATCH($B7,Calculations!$B$5:$B$8,0)) -> 0 | K7: =INDEX(Calculations!$L$5:$L$8,MATCH($B7,Calculations!$B$5:$B$8,0)) -> 0 | L7: =INDEX(Calculations!$M$5:$M$8,MATCH($B7,Calculations!$B$5:$B$8,0)) -> 0
A8: 4 | B8: =INDEX(Calculations!$B$5:$B$8,MATCH(LARGE(Calculations!$N$5:$N$8,$A8),Calculations!$N$5:$N$8,0)) -> Team A4 | C8: =INDEX(Calculations!$D$5:$D$8,MATCH($B8,Calculations!$B$5:$B$8,0)) -> 0 | D8: =INDEX(Calculations!$E$5:$E$8,MATCH($B8,Calculations!$B$5:$B$8,0)) -> 0 | E8: =INDEX(Calculations!$F$5:$F$8,MATCH($B8,Calculations!$B$5:$B$8,0)) -> 0 | F8: =INDEX(Calculations!$G$5:$G$8,MATCH($B8,Calculations!$B$5:$B$8,0)) -> 0 | G8: =INDEX(Calculations!$H$5:$H$8,MATCH($B8,Calculations!$B$5:$B$8,0)) -> 0 | H8: =INDEX(Calculations!$I$5:$I$8,MATCH($B8,Calculations!$B$5:$B$8,0)) -> 0 | I8: =INDEX(Calculations!$J$5:$J$8,MATCH($B8,Calculations!$B$5:$B$8,0)) -> 0 | J8: =INDEX(Calculations!$K$5:$K$8,MATCH($B8,Calculations!$B$5:$B$8,0)) -> 0 | K8: =INDEX(Calculations!$L$5:$L$8,MATCH($B8,Calculations!$B$5:$B$8,0)) -> 0 | L8: =INDEX(Calculations!$M$5:$M$8,MATCH($B8,Calculations!$B$5:$B$8,0)) -> 0 | N8: Final | O8: =IF(S5="","",S5) -> Team A1 | P8: 3 | Q8: =IF(S6="","",S6) -> Team B1 | R8: 2 | S8: =IF(OR(P8="",R8=""),"",IF(P8>R8,O8,Q8)) -> Team A1
N9: Third Place | O9: =IF(S5="","",IF(S5=O5,Q5,O5)) -> Team B2 | P9: 2 | Q9: =IF(S6="","",IF(S6=O6,Q6,O6)) -> Team A2 | R9: 3 | S9: =IF(OR(P9="",R9=""),"",IF(P9>R9,O9,Q9)) -> Team A2
A11: Pool B
A12: Pos | B12: Team | C12: P | D12: W | E12: L | F12: Sets For | G12: Sets Against | H12: Set Diff | I12: Pts/Games For | J12: Pts/Games Against | K12: Point Diff | L12: Pts | N12: The finals block uses the ranked table positions: 1A v 2B and 1B v 2A. Enter the number of sets won in the yellow cells for finals if you want the winners to flow through.
A13: 1 | B13: =INDEX(Calculations!$B$9:$B$12,MATCH(LARGE(Calculations!$N$9:$N$12,$A13),Calculations!$N$9:$N$12,0)) -> Team B1 | C13: =INDEX(Calculations!$D$9:$D$12,MATCH($B13,Calculations!$B$9:$B$12,0)) -> 0 | D13: =INDEX(Calculations!$E$9:$E$12,MATCH($B13,Calculations!$B$9:$B$12,0)) -> 0 | E13: =INDEX(Calculations!$F$9:$F$12,MATCH($B13,Calculations!$B$9:$B$12,0)) -> 0 | F13: =INDEX(Calculations!$G$9:$G$12,MATCH($B13,Calculations!$B$9:$B$12,0)) -> 0 | G13: =INDEX(Calculations!$H$9:$H$12,MATCH($B13,Calculations!$B$9:$B$12,0)) -> 0 | H13: =INDEX(Calculations!$I$9:$I$12,MATCH($B13,Calculations!$B$9:$B$12,0)) -> 0 | I13: =INDEX(Calculations!$J$9:$J$12,MATCH($B13,Calculations!$B$9:$B$12,0)) -> 0 | J13: =INDEX(Calculations!$K$9:$K$12,MATCH($B13,Calculations!$B$9:$B$12,0)) -> 0 | K13: =INDEX(Calculations!$L$9:$L$12,MATCH($B13,Calculations!$B$9:$B$12,0)) -> 0 | L13: =INDEX(Calculations!$M$9:$M$12,MATCH($B13,Calculations!$B$9:$B$12,0)) -> 0
A14: 2 | B14: =INDEX(Calculations!$B$9:$B$12,MATCH(LARGE(Calculations!$N$9:$N$12,$A14),Calculations!$N$9:$N$12,0)) -> Team B2 | C14: =INDEX(Calculations!$D$9:$D$12,MATCH($B14,Calculations!$B$9:$B$12,0)) -> 0 | D14: =INDEX(Calculations!$E$9:$E$12,MATCH($B14,Calculations!$B$9:$B$12,0)) -> 0 | E14: =INDEX(Calculations!$F$9:$F$12,MATCH($B14,Calculations!$B$9:$B$12,0)) -> 0 | F14: =INDEX(Calculations!$G$9:$G$12,MATCH($B14,Calculations!$B$9:$B$12,0)) -> 0 | G14: =INDEX(Calculations!$H$9:$H$12,MATCH($B14,Calculations!$B$9:$B$12,0)) -> 0 | H14: =INDEX(Calculations!$I$9:$I$12,MATCH($B14,Calculations!$B$9:$B$12,0)) -> 0 | I14: =INDEX(Calculations!$J$9:$J$12,MATCH($B14,Calculations!$B$9:$B$12,0)) -> 0 | J14: =INDEX(Calculations!$K$9:$K$12,MATCH($B14,Calculations!$B$9:$B$12,0)) -> 0 | K14: =INDEX(Calculations!$L$9:$L$12,MATCH($B14,Calculations!$B$9:$B$12,0)) -> 0 | L14: =INDEX(Calculations!$M$9:$M$12,MATCH($B14,Calculations!$B$9:$B$12,0)) -> 0
A15: 3 | B15: =INDEX(Calculations!$B$9:$B$12,MATCH(LARGE(Calculations!$N$9:$N$12,$A15),Calculations!$N$9:$N$12,0)) -> Team B3 | C15: =INDEX(Calculations!$D$9:$D$12,MATCH($B15,Calculations!$B$9:$B$12,0)) -> 0 | D15: =INDEX(Calculations!$E$9:$E$12,MATCH($B15,Calculations!$B$9:$B$12,0)) -> 0 | E15: =INDEX(Calculations!$F$9:$F$12,MATCH($B15,Calculations!$B$9:$B$12,0)) -> 0 | F15: =INDEX(Calculations!$G$9:$G$12,MATCH($B15,Calculations!$B$9:$B$12,0)) -> 0 | G15: =INDEX(Calculations!$H$9:$H$12,MATCH($B15,Calculations!$B$9:$B$12,0)) -> 0 | H15: =INDEX(Calculations!$I$9:$I$12,MATCH($B15,Calculations!$B$9:$B$12,0)) -> 0 | I15: =INDEX(Calculations!$J$9:$J$12,MATCH($B15,Calculations!$B$9:$B$12,0)) -> 0 | J15: =INDEX(Calculations!$K$9:$K$12,MATCH($B15,Calculations!$B$9:$B$12,0)) -> 0 | K15: =INDEX(Calculations!$L$9:$L$12,MATCH($B15,Calculations!$B$9:$B$12,0)) -> 0 | L15: =INDEX(Calculations!$M$9:$M$12,MATCH($B15,Calculations!$B$9:$B$12,0)) -> 0
A16: 4 | B16: =INDEX(Calculations!$B$9:$B$12,MATCH(LARGE(Calculations!$N$9:$N$12,$A16),Calculations!$N$9:$N$12,0)) -> Team B4 | C16: =INDEX(Calculations!$D$9:$D$12,MATCH($B16,Calculations!$B$9:$B$12,0)) -> 0 | D16: =INDEX(Calculations!$E$9:$E$12,MATCH($B16,Calculations!$B$9:$B$12,0)) -> 0 | E16: =INDEX(Calculations!$F$9:$F$12,MATCH($B16,Calculations!$B$9:$B$12,0)) -> 0 | F16: =INDEX(Calculations!$G$9:$G$12,MATCH($B16,Calculations!$B$9:$B$12,0)) -> 0 | G16: =INDEX(Calculations!$H$9:$H$12,MATCH($B16,Calculations!$B$9:$B$12,0)) -> 0 | H16: =INDEX(Calculations!$I$9:$I$12,MATCH($B16,Calculations!$B$9:$B$12,0)) -> 0 | I16: =INDEX(Calculations!$J$9:$J$12,MATCH($B16,Calculations!$B$9:$B$12,0)) -> 0 | J16: =INDEX(Calculations!$K$9:$K$12,MATCH($B16,Calculations!$B$9:$B$12,0)) -> 0 | K16: =INDEX(Calculations!$L$9:$L$12,MATCH($B16,Calculations!$B$9:$B$12,0)) -> 0 | L16: =INDEX(Calculations!$M$9:$M$12,MATCH($B16,Calculations!$B$9:$B$12,0)) -> 0
