Workbook

Sheet Governance
A1: Theme 1 | C1: NF Governance
A2: Board Structure | B2: Level | C2: Highlight the level you feel the NF is at. | E2: What does the next level of development look like and how do we get there?
B3: 0 | C3: We have no Committee. | E3: {=_xlfn.IFS(A3="","", A3=0, D4, A3=1, D5, A3=2, D6, A3=3, D7, A3=4, "No further criteria" )}
A4: 1. How is your Board or Executive Committee structured? | B4: 1 | C4: We have an informal committee. | D4: The NF has a group of people who put time into organising things for the NF and meet on an ad-hoc basis. To achieve this: Canvas the existing members and keen followers of the sport to see if there are enough people who can share the load of the responsibilities for running of the NF. These are likely to come from established clubs or very keen individuals; Target people who have had experience in running organisations or have sat on governing committees before, OR consider training chosen keen people to learn about the process; Provide simple incentives to encourage people to attend meetings and organise activities, such as providing tea or coffee and refreshments.
B5: 2 | C5: We have a Committee made up of elected officials who are members of the NF. | D5: The Committee is formed of elected members who are registered with clubs or as individuals of the NF but onto a Board with no specific responsibilities. To achieve this: Establish a Committee or board structure that will adequately serve the N.F.; Make changes as needed to the constitution and have these approved; Review the structure of the elected committee and ensure that it consists of a President or Chair, General Secretary (GS), Treasurer, an athlete's representative and at least one other specific portfolio; Ensure that the roles and responsibilities of each member are clear.
B6: 3 | C6: The NF has a Board with assigned specific responsibilities. | D6: The Board structure has been developed to ensure that each Board member has specific responsibility for an area of governance and activity. To achieve this: Review the structure of the elected committee and ensure that it consists of a President or Chair, General Secretary, Treasurer, an athlete's representative and at least 1 other specific portfolio; Ensure that the roles and responsibilities of each member are clear; Ensure the roles and responsibilities are reflected in the Constitution or Statutes of the organisation.
B7: 4 | C7: Board members are selected/elected on the basis of their specific skills and competencies. | D7: To achieve this: Review the structure of the Board so that it is now governed by a Board of Management on which each person is either elected or appointed to perform or oversee a specific function of the organisation; Each board member should be assigned specific portfolio or area of responsibility to which they report at Board meetings and at the AGM; Agree that management tasks and implementation of agreed actions are delegated by the Board to people who are not on the Board.
A8: Your AGM | B8: Level | C8: Highlight the level you feel the NF is at. | E8: What does the next level of development look like and how do we get there?
B9: 0 | C9: We do not meet. | E9: {=_xlfn.IFS(A9="","", A9=0, D10, A9=1, D11, A9=2, D12, A9=3, D13, A9=4, "No further criteria" )}
A10: 2. How would you describe your Annual General Meeting (AGM)? | B10: 1 | C10: We hold informal meetings as and when required. | D10: Meetings are held between active and interested members who have chosen to take responsibility for an area of the NF. These meetings are held as and when necessary and are largely informal. To achieve this: Hold meetings on an ad-hoc basis as the need arises; Involve as many members as possible; Keep records of these meetings.
B11: 2 | C11: We hold a formal annual meeting (AGM), according to our constitution. | D11: The Annual General Meeting is now established and is held annually although not necessarily at the same time of year each year. To achieve this: Hold a formal meeting of the general membership of the organisation on an annual basis; Document in the constitution of the organisation the procedures for the conduct of the annual general meeting, including the nature of the membership, eligibility for voting and voting procedures; Ensure each meeting is held according to agreed procedures and that it respects the rights of the members to have a 'voice'.
B12: 3 | C12: We hold an AGM around the same time each year and have an established agenda. | D12: The AGM is now a formal annual event, well organised and held at the same time each year (e.g. The Second Week of July). To achieve this: Hold an annual meeting of affiliates according to a predetermined agenda; Circulate papers for the meeting at least 30 days prior to the congress; Distribute a formal agenda with strict rules in place regarding submission of items that require approval of the membership.
B13: 4 | C13: We hold an Annual Congress that incorporates education and workshop activities. | D13: The AGM now takes the form of a Congress that includes educational activities and member workshops to discuss key issues. To achieve this: Hold a series of workshops and activities leading up to the meeting that allow full and open contribution by the members on all matters to be put before the meeting; Ensure there is an accurate register of members available to check attendance; Construct an agenda that is consistent from year to year and reflects the Strategic Plan for the NF; Document and make available minutes of the meeting and a transcript and rationale for all decisions for the members to read and refer to.
A14: Constitution | B14: Level | C14: Highlight the level you feel the NF is at. | E14: What does the next level of development look like and how do we get there?
B15: 0 | C15: There are no formal rules in place. | E15: {=_xlfn.IFS(A15="","", A15=0, D16, A15=1, D17, A15=2, D18, A15=3, D19, A15=4, "No further criteria" )}
A16: 3. How formal are the rules governing your association? | B16: 1 | C16: We have regulations developed on an ad-hoc basis that deal with specific activities. | D16: The active members have agreed informally on what or how we go about the business of the NF and these agreements are based on issues as they arise. To achieve this: Establish a set of rules that have been agreed to by the active members or participants in the organisation; At the same time, develop a formal procedure for recognising membership to the organisation.
B17: 2 | C17: We have a basic constitution that reflects the standards dictated by the IF and the NOC. | D17: The Constitution has been developed to reflect the requirements of the NOC and the IF so that we become or can become, recognised. This document is endorsed by our members who are registered as belonging to the organisation and legitimise its existence. To achieve this: Draft a simple constitution that covers simple operating rules and procedures and defines the organisation's roles and responsibilities; Include simple guidelines for running meetings and agreeing on matters that are to be dealt with by the elected committee on behalf of the members; Include the requirements of your IF and NOC; Submit the constitution for approval by your International Federation and by your National Olympic Committee.
B18: 3 | C18: Our constitution has been accepted by the IF and the NOC. | D18: To achieve this: Make sure the NF operates according to the constitution; Liaise frequently with the IF and the NOC and send them copies of minutes of meetings as appropriate; Review how the NF operates regularly to see if the constitution needs reviewing.
B19: 4 | C19: Our constitution is supported by by-laws and statutes approved by the membership. | D19: The constitution now addresses specific issues and needs by establishing By-Laws or Statutes that support the needs of the NF and have been approved as needed by the membership at an AGM. to achieve this: Make sure the NF operates according to the constitution; In consultation with key stakeholders decide what by-laws are essential to the operation of the NF; Incorporate these into the constitution; Get the amended constitution approved by your IF and the NOC, as well as the membership.
A20: Affiliates | B20: Level | C20: Highlight the level you feel the NF is at. | E20: What does the next level of development look like and how do we get there?
B21: 0 | C21: No members yet. | E21: {=_xlfn.IFS(A21="","", A21=0, D22, A21=1, D23, A21=2, D24, A21=3, D25, A21=4, "No further criteria" )}
A22: 4. How are individuals affiliated to your Federation? | B22: 1 | C22: We have a casual membership base who donate time and resources as they feel they want to. | D22: Membership may not yet be formally recorded but people are active and helping to conduct activities. We recognise the need to formalise our membership better. To achieve this: Identify people interested in the NF; Establish a simple set of criteria for membership of the organisation; Keep a record of people who show interest in the NF and would like to see it grow; Encourage people to donate time and resources to the NF.
B23: 2 | C23: Individuals seek direct membership to the NF which usually requires payment of a fee. | D23: Since our clubs and organisational affiliates are not well-developed we allow individuals to seek formal membership of the NF through the payment of a nominal fee. To achieve this: Establish a set of criteria for individual membership to the organisation, including fee structure, rights and privileges and benefits; Members who wish to be registered should pay a small fee to take part in activities at a discounted rate compared to non-members; Create a data base to record the membership, who should be issued a membership card.
B24: 3 | C24: Individuals belong to clubs that affiliate to the national body. | D24: The numbers of people playing our sport have grown to a point where either teams or clubs can affiliate to the NF and in doing so recognise the members of their respective organisations as being affiliated to the NF. The NF seeks to legitimise itself by recognising clubs, teams and groups of people who meet our criteria for membership. To achieve this: Establish a membership structure that recognises groups of individuals through teams or clubs; Representatives of clubs or teams should attend the AGM of the national body and be able to prove their right to do so based on minutes of meetings that endorse them as legitimate representatives of their club.
B25: 4 | C25: Individuals belong to clubs that affiliate to the national body via associations or sanctioned leagues. | D25: There is no place for individual members to directly affiliate to the NF. This should now occur only through the club or association they represent. Achieve this by: The primary form of membership to the NF should by via Clubs/teams that are grouped into Districts or Regions to establish affiliated associations; Representatives of Regions/Associations should attend the NF meetings; Representatives of the Association must produce minutes that confirm to they are legitimate representatives of their district or association; Any provision for individual membership or club membership needs to be properly recognised within the constitution, in particular their right to vote on issues affecting the NF.
A26: Organisation Affiliations | B26: Level | C26: Highlight the level you feel the NF is at. | E26: What does the next level of development look like and how do we get there?
B27: 0 | C27: No affiliations. | E27: {=_xlfn.IFS(A27="","", A27=0, D28, A27=1, D29, A27=2, D30, A27=3, D31, A27=4, "No further criteria" )}
A28: 5. What are your main organisational affiliations? | B28: 1 | C28: We have casual affiliations with social and community groups. | D28: Reaching out to the community is important to us as we see it as a good way to promote our sport and our activities. To achieve this: Identify other groups your NF could affiliate with; Identify the benefits of affiliations for both groups; Affiliate if it seems sensible.
B29: 2 | C29: Affiliated to International Federation. | D29: We recognise the need to be affiliated to the International Federation (IF) and become recognised as the organisation responsible for our sport in this country. To achieve this: Seek guidance from your NOC on how to do this; Establish contact with the appropriate liaison person at the IF Formally write to the IF seeking support for affiliation to the IF and provide evidence of your legitimacy as a functional entity: Do what is required to become affiliated to the IF either through a regional body or directly. This brings recognition to the organisation as the official governing body of your sport in the country.
B30: 3 | C30: Affiliated to the NOC. | D30: The NOC as the umbrella organisation for sport is a very important affiliation to have. It is a source of possible development funding as well as an organisation that provides important pathways in the overall sport environment. To become affiliated to the NOC: Seek guidance from your NOC on how to do this; Amend your constitution to include items that are stipulated under the Olympic Charter; Legitimise your existence by presenting a formally registered list of members; Seek to attend NOC meetings as an observer in order to understand the workings of the NOC; Seek to be active member of the NOC in order for your NF to have influence.
B31: 4 | C31: Affiliated to international sport groups (other than the IF) or corporate groups/franchises. | D31: The NF seeks out affiliation with both government and non-government organisations with like interest, in order to further its influence on sport and sports policy both nationally and internationally. To achieve this: Identify groups and organisations who have similar objectives to the NF who might benefit it by affiliation; Establish contact with organisations that have similar objectives to the NF; Take steps to seek affiliation to international and national bodies and professional organisations outside of the sport that operate within the country.
A32: Planning | B32: Level | C32: Highlight the level you feel the NF is at. | E32: What does the next level of development look like and how do we get there?
B33: 0 | C33: We have no plan. | E33: {=_xlfn.IFS(A33="","", A33=0, D34, A33=1, D35, A33=2, D36, A33=3, D37, A33=4, "No further criteria" )}
A34: 6. What does your organisational plan look like? | B34: 1 | C34: We plan on an ad-hoc basis to roughly execute specific activities. | D34: The NF has no overall plan in place, but it does plan an activity before implementing it to be more efficient with limited resources. To achieve this: Identify what the activities the NF needs to do; Construct simple plans for specific events or activities on an ad-hoc basis; Evaluate the outcomes to find ways to deliver better activities and in a more economical way.
B35: 2 | C35: We have a basic organisational plan prepared for external stakeholder requirements. | D35: The organisational plan has been produced to satisfy the requirements placed on us for seeking funding from external agencies both government and non-government. To achieve this: Seek advice and provide training for the Board members on planning; Understand what stakeholders require from the NF; Set objectives for the NF; Develop a plan for the NF that ensures you will meet stakeholder requirements; Deliver the plan; Monitor and evaluate outcomes and check for impacts on all parts of the organisation.
B36: 3 | C36: We have a documented annual plan prepared by the Board. | D36: The NF plan has been developed by the Board perhaps with the assistance of an external consultant, to identify and address the core business of the NF. It is documented and has been seen by the membership. To achieve this: Revisit the NF's objectives to make sure they are still appropriate; Develop operational strategies to achieve these objectives; Ensure the collection of plans is reviewed by the membership and understood by everyone involved in implementing them; Include simple key performance indicators (KPIs) so you can measure NF performance against the plans; Continue to check the effects of outcomes achieved against all pillars of the NF.
B37: 4 | C37: A documented strategic plan has been prepared for a four year period. | D37: The NF has a strategic plan that takes into account our resources and our capabilities of using these resources which is based on a comprehensive environmental analysis and audit. To achieve this: Seek advice and provide training for the Board members on strategic planning; Conduct a thorough environmental analysis using helpful tools such as SWOT/TOWS and Stakeholder Matrix; Fully understand both the internal and external environment of the organisation and the resources and capabilities that it has at its disposal; Make sure this meets the requirements of key stakeholders and reflect the values established for the NF; Construct the Strategic plan setting out a series of objectives over a timeline that is appropriate from 1 to 4 years; Follow the plan and evaluate the success of the plan and discuss as a matter of course at NF meetings; Carefully evaluate the effect of outcomes for objectives in one area of the organisation with the rest of the organisation.
A38: Code of Conduct | B38: Level | C38: Highlight the level you feel the NF is at. | E38: What does the next level of development look like and how do we get there?
B39: 0 | C39: No Codes of Conduct. | E39: {=_xlfn.IFS(A39="","", A39=0, D40, A39=1, D41, A39=2, D42, A39=3, D43, A39=4, "No further criteria" )}
A40: 7. What kind of Codes of Conduct do you have? | B40: 1 | C40: We have unwritten agreed standards/duty of care that are understood by those affected. | D40: Everyone works on an understanding of our responsibilities for the care and safeguarding of people in our organisation and that we are all here for the organisation. However, nothing is formalised or written. To achieve this: Discuss with everyone involved in running activities what behaviour is expected of them; Seek out advice from credible sources on what behaviours are expected of people working in sporting and other non-government organisations; Establish at the very least, an unwritten code of behaviour on how participants in your activities should behave.
...

Sheet Management
A1: Theme 2 | C1: Management
A2: NF Structure | B2: Level | C2: Highlight the level you feel the NF is at. | E2: What does the next level of development look like and how do we get there?
B3: 0 | C3: There is no specific Structure. | E3: {=_xlfn.IFS(A3="","", A3=0, D4, A3=1, D5, A3=2, D6, A3=3, D7, A3=4, "No further criteria" )}
A4: 1. How is the NF structured? | B4: 1 | C4: One Board member manages the NOC. | D4: During the early stages of an NF's development, the work of managing the Organisations typically falls upon one or two willing and enthusiastic Board members who strive to establish some management of activities. To achieve this: One Board member, usually the President takes responsibility for managing the activities of the NF; This is an undesirable situation and every effort must be made to put a functional board in place and share the workload;
B5: 2 | C5: An elected Board manages and governs the NF with a few key active people. | D5: The challenge now is to develop the NF's structure, make sure that the Board is well structured and is full of keen contributors to the governance and management of the NF. To achieve this: Has enough people to run the Organisation; Knows what it has to do; Consult with the NOC and agree on a strategy that utilises funded programmes such as Administration Courses to understand what needs to be done and to appreciate the need for inclusive practices; Has members that have the skills required to run the Organisation; Is prepared to delegate responsibility to people with skills who may or may not be on the Board to manage specific programs.
B6: 3 | C6: The Board, manages the Organisation and takes 'whole Board' responsibility for key functions such as the annual reports, including financial statements. | D6: The NF strives to provide an income stream that can support the employment of staff to take on some of the more demanding administrative functions of the NF. By now the Secretary General may have become a paid employee of the NF and head up the management functions. Paid staff and/or volunteers may work with sub-committees to effectively manage the increasingly diverse functions of the NF. To achieve this: Identifying distinct areas of activity within the NF; Create sub-committees that take responsibility for these areas of activity; Have a member of the Board on each of the sub-committees; Have these sub-committees report to the Board.
B7: 4 | C7: The Board delegates some management responsibility to staff or other volunteers under the supervision of the General Secretary. | D7: The separation of governance from management is a desirable outcome as the Board seeks to set policy, plan and monitor rather than administer the NF. This usually requires the engagement of staff, full time or part time to take on these roles while maintaining responsibility for the direction the NF is taking. To achieve this: Prioritise which areas of activity would benefit from paid staff assistance; Identify sources of funding for paid staff either from within the NF or from external sources, such as government, sponsors or the NOC (Olympic Solidarity); Delegate responsibility for appropriate activities to these functions.
C8: The NF has a fully established secretariat that manages several departments under the control of a CEO/COO. | D8: Efforts are now being made to structure the NF into a functional departments, as the staff numbers grow and the various priorities of the NF develop. To achieve this: Conduct a comprehensive task and skills audit of the NF; Develop a Job Structure by grouping tasks and associating the skills needed to complete these tasks; Organise staff and volunteers into functional areas of operation that support the strategic plan; Delegate responsibility for appropriate activities to these functions.
A9: Operations | B9: Level | C9: Highlight the level you feel the NF is at. | E9: What does the next level of development look like and how do we get there?
B10: 0 | C10: There are no operations to plan | E10: {=_xlfn.IFS(A10="","", A10=0, D11, A10=1, D12, A10=2, D13, A10=3, D14, A10=4, "No further criteria" )}
A11: 2. How does the NF carry out operational planning? | B11: 1 | C11: We react to opportunities without documented procedures. | D11: The NF has no formal planning in place but recognises the need to start the planning process in the NF. To achieve this: Establish criteria that will enable the organisation to agree on how its activities are managed among friends and enthusiastic participants. These criteria may be noted but not documented formally documented; Consult with members to agree on priorities for development of the NF.
B12: 2 | C12: We have a simple operational plan, but it is not necessarily used. | D12: The NF has a plan drafted, probably due to pressure to construct such a document in order to receive funding from one or more external sources. We recognise the need for effective planning but are as yet not fully committed to it. To achieve this level: Carry out a regular audit of the external environment of the NF to identify opportunities; Have Board members receive training in operation planning to help with future planning; Produce an operational plan that addresses the key activities carried out by the NF; This plan should be formally agreed to at a meeting of the majority of members of the organisation.
B13: 3 | C13: The NF has an annual operational plan, which is based on a long term strategic plan. | D13: It is essential that the operational plan reflects the objectives of the strategic plan which has been in turn, properly considered and constructed on the basis of a thorough environmental analysis. To achieve this: Carry out a regular audit of the external environment; Ensure that the organisation has a well-developed strategic plan; Identify what the NF has to do to achieve its strategic objectives; Document this in an operational plan; Ensure that the operational plan is available to all volunteers and staff responsible for activities endorsed by the NF.
B14: 4 | C14: We have a comprehensive operational plan for all activities and procedures, which has been approved by the membership. | D14: The NF has a comprehensive set of operational plans for each of the NF's functions that can be used to inform the development of an Operations Manual. To achieve this: Identify the key functions necessary to achieve the strategic plan; Develop a plan for each function that ensures it contributes to the strategic plan; Ensure that the Operations Plan that is closely tied to the organisation strategic plan and covers at least 80% of the areas of strategic importance to the organisation. Seek approval for the operational plan from the Board.
A15: Operations Manual | B15: Level | C15: Highlight the level you feel the NF is at. | E15: What does the next level of development look like and how do we get there?
B16: 0 | C16: There is no manual | E16: {=_xlfn.IFS(A16="","", A16=0, D17, A16=1, D18, A16=2, D19, A16=3, D20, A16=4, "No further criteria" )}
A17: 3. What kind of operations manual does the NF have? | B17: 1 | C17: We have a few documented working procedures, but these are not documented. | D17: Based on the experience of individuals in conducting activities within and on behalf of the NF, we have accumulated a set of documented procedures and contact lists but these have as yet to be standardised and formalised in any way and may not always be available to whoever needs it. To achieve this level: Have enough people to operate the NF; Make sure that people know what has to be done to operate the NF; Evaluate how your NF is operating on a regular basis.
B18: 2 | C18: We have documented some essential procedures, such as those relating to finances. | D18: To help the NF operate more formally and consistently: Agree what has to be done to complete these procedures; Identify what procedures have to be followed consistently; Communicate the required procedures; Evaluate how your NF is operating on a regular basis in terms of the procedures.
B19: 3 | C19: The NF has an operations manual covering all administrative aspects of the organisation. | D19: We recognise the need to put things in order and create a written set of operating procedures. To achieve this: Identify essential procedures for documentation; Consult to identify what the procedures require; Document these procedures; Make these documented procedures available to all and continue to communicate any non-documented procedures.
B20: 4 | C20: Each functional area of the NF has an operations manual reviewed regularly. | D20: Our operations manual is a centrepiece of the management of the NF and contains all of the necessary information to assist anyone to undertake a specific job or function in the organisation. It may be available online or in hard copy. To achieve this: Consult to identify what procedures are needed; Identify the procedures used to run all aspects of the NF; Document these procedures and incorporate into an Operations Manual; Construct both hard copies and electronic copies and structure it so that parts of it can be used in isolation; Distribute the Operations Manual to all appropriate people and ensure it has a place of prominence within the NF office.
A21: Program Management | B21: Level | C21: Highlight the level you feel the NF is at. | E21: What does the next level of development look like and how do we get there?
B22: 0 | C22: No programmes to manage. | E22: {=_xlfn.IFS(A22="","", A22=0, D23, A22=1, D24, A22=2, D25, A22=3, D26, A22=4, "No further criteria" )}
A23: 4. How are programmes managed by the NF? | B23: 1 | C23: We have some programmes driven by interest and opportunity. | D23: There is no organised plan or season for activity established by the NF. Programs and activities are held on an interest basis and organised by individuals who have the time and desire to do so. To achieve this: Identify opportunities for holding activities; Identify interested people to conduct the activity; Involve all relevant parties in the activity.
B24: 2 | C24: Our programmes are managed by Board members. | D24: The board is generally made up of the more active people in the NF and as such they take on the responsibility for most of the activities of the NF. To achieve this: Identify when activities are necessary and create an activity calendar; Assign responsibility for activities and needed tasks to each Board Member; Communicate this schedule to all relevant parties; Hold activities as scheduled.
B25: 3 | C25: The Board delegates some programmes to either paid or voluntary staff members who have the specific knowledge required. | D25: The NF is growing, and the number and frequency of activities is now beyond the capacity of Board Members to manage. Delegating responsibility for some activities, especially specialist one like coaching or events is accepted. To achieve this: Construct a program of specialized activities specific to your sport. These might include competitions, coach development, administration training and officials training; Develop procedures to distribute the resources needed to the appropriate parties in accordance with the operational plan; Ensure that these programs address specific development objectives that have been identified in the planning process that the organisation has undertaken already; Appoint people with the necessary skills and experience to take responsibility for the delivery of these activities and report on their progress.
B26: 4 | C26: All of our programmes are managed professionally, mainly by paid staff with some specialist volunteers. | D26: The NF separates governance from management and restricts Board members from directly managing any of the NF activities. Management is overseen by the General Secretary or a paid CEO/COO. To achieve this: Develop a schedule of activities that is communicated appropriately and in full compliance with the constitution; Assignment responsibility for these activities to specifically skilled and trained volunteers of paid staff; Ask appropriate parties to write reports on activities including recommendations for consideration; Ensure that the board retains oversight of the activities and ensures that they are completed in line with its constitution, code of ethics and values of the NF.
A27: Event Management | B27: Level | C27: Highlight the level you feel the NF is at. | E27: What does the next level of development look like and how do we get there?
B28: 0 | C28: No programmes to manage. | E28: {=_xlfn.IFS(A28="","", A28=0, D29, A28=1, D30, A28=2, D31, A28=3, D32, A28=4, "No further criteria" )}
A29: 5. How are events managed by the NF? | B29: 1 | C29: Our events are conducted at short notice by keen members. | D29: Events are organised on an ad hoc basis, sometimes spontaneously and other times with some planning. To achieve this: Organise some events among friends and associates on a short term and ad-hoc basis; Have mechanisms for calling in volunteer help; Involve all relevant parties in the events.
B30: 2 | C30: Our events are seasonal and managed by a committee. | D30: The organisation has an established a committee that is responsible for the formal organising of events, with members having specific assigned responsibilities. To achieve this: Identify a timeframe or season in which the sport can best be delivered and create an events calendar; Establish simple criteria for electing or appointing people to a committee charged with organising competitions; Hold meetings as scheduled.
B31: 3 | C31: Our events follow a basic planning cycle in line with organisational objectives. | D31: The NF has a well-established competitions and events schedule that follows a 'Think-Plan-Do' approach. To achieve this: Establish a competitions committee that runs the organisations events in accordance with the strategic plan and operations manual; Carefully consider the event concepts and the resources and capabilities needed to achieve it; Plan the event out and include contingencies for identified risks, such as poor weather or poor attendance Develop procedures to distribute the work load to the appropriate parties in accordance with the Operations plan; Establish special sub-committees to conduct one-off events as required.
B32: 4 | C32: Our events follow the four recognised parts of the event management cycle and are managed by paid staff or agents. | D32: We have well documented event planning that establishes an event concept, that leads to a preparation phase, followed by an implementation phase and completed with thorough monitoring and evaluation. To achieve this: Engage or establish a professional Event Management Committee that is paid from proceeds generated by the event; Ensure all events have a well-documented plan in place that has been approved by the Board Outsource events to a professional company but the proceeds of the event are returned to the organisation, OR have established a professional event management section that is responsible for all events run by the organisation and operates as a business.
A33: Stakeholder reporting | B33: Level | C33: Highlight the level you feel the NF is at. | E33: What does the next level of development look like and how do we get there?
B34: 0 | C34: No reporting is done | E34: {=_xlfn.IFS(A34="","", A34=0, D35, A34=1, D36, A34=2, D37, A34=3, D38, A34=4, "No further criteria" )}
A35: 5. How does the NF report to stakeholders on its activities? | B35: 1 | C35: We do this informally, usually by word of mouth. | D35: Reporting is usually verbal, but we recognise the need to start to more formally report on activities. To achieve this: Identify what activities should be reported upon; Have a mechanism or forum that allows reporting on some activities to appropriate parties; Delegate responsibility for reporting of activities to the appropriate party.
B36: 2 | C36: Reports are produced on demand, as required by external funders. | D36: The NF reports formally when required, to respond to the needs of external funding agencies. To achieve this: Identify what activities should be reported upon and report on these, at least, informally; Identify those activities that need to be reported formally; Have a mechanism that allows others to read notes taken; Communicate the process for accessing these notes to all appropriate parties.
B37: 3 | C37: An annual report is presented to the GA for approval before circulation to stakeholders. | D37: The annual report houses a comprehensive report of all our activities and is the primary method used to report to the members. To achieve this: Identify those activities that need to be reported by written notes and make these notes available by a mechanism that is communicated to all appropriate parties; Require written reports, rather than written notes, on key programmes and projects that the NF is involved with and make these available to all appropriate parties.
B38: 4 | C38: The annual report is the official document produced by the organisation and this is supported by detailed project specific reports as needed. | D38: We recognise the need to produce reports in a well-structured and professional way as part of demonstrating our competence and viability as an organisation. To achieve this: Identify the formality and sophistication of reporting required for different NF activities; Make sure that activities are reported as required; Produce reports of all the organisation's activities in a printed, high quality annual report. Provide for all reports to be available to the members and to the community at large via a website or other electronic depository.
A39: Records | B39: Level | C39: Highlight the level you feel the NF is at. | E39: What does the next level of development look like and how do we get there?
B40: 0 | C40: There are no records to manage | E40: {=_xlfn.IFS(A40="","", A40=0, D41, A40=1, D42, A40=2, D43, A40=3, D44, A40=4, "No further criteria" )}
...

Sheet Human Resources
A1: Theme 3 | C1: Human Resources
A2: Staffing | B2: Level | C2: Highlight the level you feel the NF is at. | E2: What does the next level of development look like and how do we get there?
B3: 0 | C3: No staff of any kind | E3: {=_xlfn.IFS(A3="","", A3=0, D4, A3=1, D5, A3=2, D6, A3=3, D7, A3=4, "No further criteria" )}
A4: Do you have paid staff? | B4: 1 | C4: The NF has limited staffing or part time people remunerated for some basic administrative work. | D4: The NF relies heavily on volunteers to carry out its activities and duties but recognises the need to begin to pay people for services. To achieve this: Identify the activities the NF needs to carry out; Determine the income that can be directed towards paying for services; Assign a specific Board Member to oversee and manage the execution of duties and payment for services.
B5: 2 | C5: The NF has at least 1 full time employee to manage the administration of the NF. | D5: In having at least one full time employee the NF realises that its work is beyond the capacity of volunteers due to its on-going and often intense nature. To achieve this: Conduct a task and skills audit as a basis for prioritising the person needed; Develop a job description and person specification and ensure that what is expected of this position is reasonable for the remuneration being offered, while meeting the needs of the NF; Assign a specific Board member to monitor and oversee the new employee; Have the Board member report back regularly on the staff member's activities.
B6: 3 | C6: The NF has a several paid staff, including a general manager / executive director or CEO. | D6: The NF has established paid staff to carry out administrative work as well as focus on the demands of delegations to major events. To achieve this: Establish a Job Structure that includes a job description and person specifications for each post in the NF; Determine the cost of employing each person, including office space and equipment as well as salaries and on-costs; Define the job structure and the lines of accountability for each post; Employ and review their performance annually.
B7: 4 | C7: The NF has a full paid staff complement organised in departments. | D7: The NF is a well-structured professional organisation, structured into Departments to carry our specific responsibilities of the NF. To achieve this: Draw up job descriptions and person specifications for all voluntary and paid positions in the Organisation; Establish clear and unambiguous selection criteria for each position in the NF; Ensure that selection is made strictly on the basis of documentation available. Put in place a comprehensive induction and orientation plan for each position in the NF.
A8: Administration | B8: Level | C8: Highlight the level you feel the NF is at. | E8: What does the next level of development look like and how do we get there?
B9: 0 | C9: No-one | E9: {=_xlfn.IFS(A9="","", A9=0, D10, A9=1, D11, A9=2, D12, A9=3, D13, A9=4, "No further criteria" )}
A10: Who is responsible for the Administration of the organisation? | B10: 1 | C10: Everyone looks after their own activities. | D10: The NF has a few willing volunteers who organise themselves when tasked to perform a duty or duties on behalf of the NF. We recognise the need to manage volunteers. To achieve this: Identify the activities the NF needs to carry out; Recruit enough volunteers to do all the activities; Make sure that volunteers know what they have to achieve.
B11: 2 | C11: Our Board members are assigned to manage tasks. | D11: All our volunteers report to various Board Members who assume the responsibility to manage their contributions. To distribute responsibility to Board members more formally: Allocate volunteers into groups or to specific activities; Assign a Board member to each group or particular activity; Ensure that the Board member knows what the volunteers have to achieve; Have the Board member report back regularly on volunteer activities and in particular administrative functions carried out by them.
B12: 3 | C12: We have an administrative officer who is either a specialist volunteer or paid person. | D12: The NF has organised much of its administration to be taken care of by either volunteers or part-time/full time staff. These functions are now overseen by either the Secretary General or a CEO. To achieve this: Draw up a job description and person specification for a post to manage the volunteers; Recruit a volunteer or staff member to this post; Ensure that they have the right skills and know what is required; Review their performance regularly.
B13: 4 | C13: We employ a CEO to manage the administration of the organisation. | D13: The NF has so many programmes that require full time attention that it is necessary to employ a CEO. To achieve this: Draw up a job description and person specification for a CEO; Recruit someone with the rights skills and abilities for the post; Evaluate their performance regularly.
A14: Coaching staff | B14: Level | C14: Highlight the level you feel the NF is at. | E14: What does the next level of development look like and how do we get there?
B15: 0 | C15: None | E15: {=_xlfn.IFS(A15="","", A15=0, D16, A15=1, D17, A15=2, D18, A15=3, D19, A15=4, "No further criteria" )}
A16: What coaching staff do you have? | B16: 1 | C16: Untrained volunteers coach teams out of interest. | D16: Coaching is usually undertaken by parents or keen volunteers who may or may not have played the sport before. To achieve this: Seek out volunteer, untrained but keen coaches, usually parents or associates of interested participants; Find ways to support these volunteers with training and incentives.
B17: 2 | C17: Some trained coaches look after our teams on a volunteer basis. | D17: Our coaches have done some training usually with an external organisation and work as volunteers. To achieve this: Ensure that coaches have some formal training; Identify where missing competencies can be obtained external to the NF; Seek out development opportunities through graded coach education, to address gaps between what competencies the NF has and what it requires.
B18: 3 | C18: Specialised coaches either volunteer or receive some support to coach. | D18: We have a good range of coaching development opportunities within the NF and we seek to find some remuneration for them. To achieve this: Establish a coach education program that trains specialised, graded coaches; Graded coach education programs are now conducted by the organisation. Seek out a source of funding such as charging coaching fees, to help support the work of coaches.
B19: 4 | C19: Qualified professionals take care of our coaching needs. | D19: Most of our coaches are fully qualified professionals that lead highly elite groups of athletes. To achieve this: Fully implement a graded coach education program and issue certificates under the N.F. brand; Anticipate future competencies and establish a plan for these to be met; Establish clear guidelines for the recruitment, selection and training of coaches for the NF representative teams.
A20: Technical officials | B20: Level | C20: Highlight the level you feel the NF is at. | E20: What does the next level of development look like and how do we get there?
B21: 0 | C21: None | E21: {=_xlfn.IFS(A21="","", A21=0, D22, A21=1, D23, A21=2, D24, A21=3, D25, A21=4, "No further criteria" )}
A22: What Technical Officials do you have? | B22: 1 | C22: Interested volunteers help out. | D22: Interested people usually parents of athletes, take on officials' duties as volunteers, with our without training. To achieve this: Know what competencies volunteers can make available to the NF; Use these in the most appropriate way to support the work of the NF.
B23: 2 | C23: We have trained volunteer officials who work with an officials commission. | D23: Officials who control our competitions are trained to some degree but remain largely voluntary. To achieve this: Carry out an audit of the competencies in the NF and compare it to what is required; Identify where missing competencies can be obtained external to the NF; Seek out development opportunities to address gaps between what competencies the NF has and what it requires.
B24: 3 | C24: We have specialised officials trained to IF standards. | D24: Our officials are trained to IF standards usually by taking part in IF sanctioned training programmes. The NF insists that its elite competitions are controlled by IF trained officials. To achieve this: Establish guidelines for the qualifications needed by officials; Identify external assistance where necessary and appropriate.
B25: 4 | C25: We have fully qualified professionals who carry out our officials' duties. | D25: Our officials are fully trained withing the NF to meet IF standards and are graded to the level of performance they are needed to preside over. To achieve this: Continue to monitor the competencies available to the NF to anticipate when development might be required; Anticipate future competencies and establish a plan for these to be met; Establish graded technical officials training programs with the NF and ensure they are endorsed by the IF.
A26: Athletes | B26: Level | C26: Highlight the level you feel the NF is at. | E26: What does the next level of development look like and how do we get there?
B27: 0 | C27: None | E27: {=_xlfn.IFS(A27="","", A27=0, D28, A27=1, D29, A27=2, D30, A27=3, D31, A27=4, "No further criteria" )}
A28: What types of athletes do you have? | B28: 1 | C28: We have interested recreational participants. | D28: Most athletes in our NF are recreational with the occasional talented individual seeking to improve to higher levels. To achieve this: Encourage anyone from any background to join in your activity sessions; Seek out serious athletes in other sports to come and try your sport; Provide the conditions that make doing your sport attractive to all parts of the community.
B29: 2 | C29: We have regular participants who will train at least 2 times per week. | D29: Some clubs in our NF have their athletes training up to twice a week for at least half of the year. To achieve this: Establish a competition structure that provides an incentive for athletes to want to train in order to be good enough to win it; Provide resources and support to clubs for coaches on training athletes to improve their performance; Identify athletes who are already dedicated to training and establish them as role models or even mentors to others who wish to strive to improve.
B30: 3 | C30: Our athletes are committed and choose our sport over other activities. | D30: The NF has access to a good number of dedicated athletes who prioritise our sport over others and who train more than 2 times per week for most of the year. To achieve this: Continue to improve the standard and status of NF competitions at all levels; Raise the profile of the national team by taking part in regular and frequent international competitions; Develop a business model for clubs that encourages them to move to developing semi-professional athletes; Provide incentives that will encourage Athletes to play this sport as their number one choice.
B31: 4 | C31: We have professional athletes for whom the sport is their life. | D31: Our top-level competitions generate sufficient income to support professional athletes who compete both nationally and internationally. This makes it possible for athletes to make our sport their lifelong passion. To achieve this: Establish a viable business plan the is competition based providing opportunities for athletes to play our sport all year round and at any level; Provide a comprehensive athlete support framework that is mindful of developing athletes safely, maintaining their participation in the sport and transitioning athletes after their life in sport.
A32: Volunteer recruitment | B32: Level | C32: Highlight the level you feel the NF is at. | E32: What does the next level of development look like and how do we get there?
B33: 0 | C33: We do not. | E33: {=_xlfn.IFS(A33="","", A33=0, D34, A33=1, D35, A33=2, D36, A33=3, D37, A33=4, "No further criteria" )}
A34: From where do you recruit new staff or volunteers? | B34: 1 | C34: We recruit and select by word of mouth and through personal contact. | D34: The NF has yet to properly consider where to source its talent from beyond existing immediate networks. To achieve this: Be aware of the role requirements of positions within the NF; Seek people who can fill these roles, by enquiring informally through existing personal networks.
B35: 2 | C35: We have established job descriptions for our basic roles, but rely on volunteers to fill positions. | D35: We have established a series of basic job descriptions and have a good idea of the kind of people we need to fill these roles. Most of our positions are still filled by volunteers but we are aware of the need to choose people carefully for roles rather than simply take whoever comes along. To achieve this: Create a sub-committee to be responsible for recruitment that reports to the Board; Provide training in recruitment and selection for the sub-committee; Document general guidelines to support recruitment activities, which consider how people might be recruited; Use the guidelines to recruit staff and volunteers.
B36: 3 | C36: We have an HR policy in place and systematically recruit, select and induct our volunteers and paid staff. | D36: The NF has established documented human resource management procedures to better recruit, select and train our professional and volunteer workforce. To achieve this: Develop appropriate documentation to support the recruitment process. This includes, job descriptions, person specifications and selection guidelines; Use this documentation to recruit people to work with the NF, who are not known to the NF or its contacts;
B37: 4 | C37: We have a comprehensive HR framework to manage all aspects of HR and strive to find the best candidates for the positions both, internally and external to the NF. | D37: The NF has a Human Resources Department that reviews our strategic plan and designs an appropriate job structure to help meet its objectives and ambitions. To achieve this: Establish a HR department to support recruitment activities and the development and revision of procedures; Develop a framework that covers all aspects of recruitment practice, including an evaluation of current and future recruitment needs. Monitor and revise the framework when appropriate.
A38: Education Support | B38: Level | C38: Highlight the level you feel the NF is at. | E38: What does the next level of development look like and how do we get there?
B39: 0 | C39: None | E39: {=_xlfn.IFS(A39="","", A39=0, D40, A39=1, D41, A39=2, D42, A39=3, D43, A39=4, "No further criteria" )}
A40: What support do you provide for educating people in your organisation? | B40: 1 | C40: Incidental learning on the job. | D40: There is no formal education in the organisation, people with experience may pass on what they know but this is not done systematically. To achieve this: Be aware of the requirements of the roles within the NF; Seek people who can fill these roles; Encourage people who have done these jobs to help out the new members as much as possible.
...

Sheet Finance
A1: Theme 4 | C1: Finance
A2: Oversight | B2: Level | C2: Highlight the level you feel the NF is at. | E2: What does the next level of development look like and how do we get there?
B3: 0 | C3: No formal insight | E3: {=_xlfn.IFS(A3="","", A3=0, D4, A3=1, D5, A3=2, D6, A3=3, D7, A3=4, "No further criteria" )}
A4: Who oversees the finances of your organisation? | B4: 1 | C4: The elected Board through the Treasurer. | D4: To establish the Treasurer to oversee the finances: Appoint a Board member to be responsible for all financial matters; Include the roles and responsibilities of this position - the Treasurer- in the Constitution or in its By-Laws; Ensure that the Treasurer has the necessary financial skillset; Ensure that the Treasurer reconciles the finances and reports finances to the S.G. & Board when the Board meets.
B5: 2 | C5: A Finance Committee consisting of the Treasurer, Chair and one other Board member oversees finances on behalf of the Board. | D5: The NF has established a Finance Committee to oversee the finances of the NF on behalf of the Board although the Board maintains its absolute responsibility for this function. To achieve this: Appoint a Committee consisting of, at least, the Treasurer, the Chair and one other Board member to oversee the finances of the NF; Include the roles and responsibilities of this committee in the Constitution or in its By-Laws; Ensure that the Finance Committee have the required financial skillset to support the NF; Task the Finance Committee to develop financial processes and systems so that the NF can operate with best practice; Ensure that the Finance Committee reports to the Board regularly on the balance of funding available for planned activities; Task this Committee with the responsibility of drafting an annual budget based on the planned activities of the NF.
B6: 3 | C6: A Board based Finance Committee established by Terms of Reference that includes at least one independent external member. | D6: The NF has established a Finance Committee to oversee the finances of the NF on behalf of the Board although the Board maintains its absolute responsibility for this function. To achieve this: Appoint a Committee consisting of, at least, the Treasurer, the Chair and one other Board member to oversee the finances of the NF; Include the roles and responsibilities of this committee in the Constitution or in its By-Laws; Ensure that the Finance Committee has the required financial skillset to support the NF; Task the Finance Committee to develop financial processes and systems so that the NF can operate with best practice; Ensure that the Finance Committee reports to the Board regularly on the balance of funding available for planned activities; Task this Committee with the responsibility of drafting an annual budget based on the planned activities of the NOC.
B7: 4 | C7: A Board appointed Finance and or Audit Committee has been established that oversees and reports to the Board. | D7: The NF has established an independent Board appointed Finance Committee, that provides financial oversight and fiscal advice to the NF Board including the preparation and validity of the annual audit. To achieve this: Establish a Finance committee with the necessary skillset; Agree on the Terms of Reference (TOR) and define the role of the Finance Committee; Review financial procedures and risk management on an on-going basis and advise the Board on all financial matters, including those raised by the annual Audit; Ensure that the NF remains solvent and maintains its ability to provide services to its members and the sporting community.
A8: Finanace management | B8: Level | C8: Highlight the level you feel the NF is at. | E8: What does the next level of development look like and how do we get there?
B9: 0 | C9: No specific management responsibility. | E9: {=_xlfn.IFS(A9="","", A9=0, D10, A9=1, D11, A9=2, D12, A9=3, D13, A9=4, "No further criteria" )}
A10: Who manages the organisation's finances? | B10: 1 | C10: Treasurer. | D10: The Board allocates responsibility for managing finances to an elected Treasurer who has either stood for this office or has been selected by the elected Board to undertake this role because of their specific skills in this area. To achieve this: Establish a Treasurer position on the Board; Appoint or elect a suitably qualified person to the position; In conjunction with the General Secretary, the Treasurer manages and oversees the writing of cheques and depositing of funds; Ensure that the Treasurer periodically collects the financial information and bank statements from the NF and prepares financial information for the Board. Note: at this level the Treasurer is part of a 'management board' structure.
B11: 2 | C11: Treasurer supported by an external accountant. | D11: The NF spreads the responsibility for managing finances, recognising the need for independent expertise by seeking the services of an accountant, either voluntarily or partly paid. To achieve this: Establish a committee that is responsible for the finances of the NF, reporting to the Treasurer; Appoint suitably qualified people to sit on the committee; Appoint an external Accountant who is independent of the NF and its key personnel Task the committee to acquit financial statements and prepare reports for S.G. and Board when requested and note that the Accountant may be asked from time to time to come to Board meetings and answer specific questions; Task the committee and external auditors to prepare the Annual Audit before the AGM . Ensure the Board has an overview of the finances on a regular basis and take 'whole board' responsibility for the financial report.
B12: 3 | C12: Accounting Technician, Accountant or Finance Manager employed by the NF, reporting to the S.G. and Finance Committee (F.C.). | D12: The NF now allocates responsibility for managing finances to a paid member of staff, Finance Manager (F.M.)who reports to the Treasurer and likely to the General Secretary on a regular basis. To achieve this: Create a post that requires appropriate qualifications, experience and competencies to manage the NF's finances; Appoint a suitably qualified person to this post; Ensure that the roles and responsibility of the F.M., are clearly documented and that there is an agreed and signed employee contract; Task the F.M. to record and prepare all financial information periodically or when required by the S.G. and the F.C.; The F.M. discusses financial matters with managers and S.G. monthly or bi-monthly ensuring that the budget spend and income to be received are all on track as projected in the agreed financial plan; Ensure that the F.M. in conjunction with the S.G. present timely financial reports for discussion with the F.C.; Task the F.M. to assist the F.C. to review financial information and submissions for Board papers and assist the F.C. with annual audit requirements and preparations; Ensure that the F.M. reports to the Treasurer and that the Board has a clear understanding of the NF's finances prior to submission of the Annual report to the AGM.
B13: 4 | C13: The NF has a finance department that develops, manages and reports all finances and financial forecasts for the NF. | D13: At this level of development the Finance Department led by the Finance Manager (F.M.) provides financial oversight and fiscal advice to the NF Board. One of its core responsibilities is to ensure the organization is operating responsibly with the financial resources it has, in order to remain solvent and provide the NF with the financial ability to carry out programs and services to its members and sporting community. To achieve this: Create a Finance Director post that requires appropriate qualifications, experience and competencies to manage the NF's finances; Appoint a suitably qualified person to this post; Provide advice to all areas of the NF on the type of financial reporting they require Ensure that the Finance Director reports regularly to the Finance Committee (F.C.) and the Board and that the Board has a clear understanding of the NF's finances, financial and risk management procedures.
